BEGIN:VCALENDAR
VERSION:2.0
PRODID:-//wp-events-plugin.com//7.2.3.1//EN
TZID:Europe/Berlin
X-WR-TIMEZONE:Europe/Berlin
BEGIN:VEVENT
UID:6@wordpress-staging-wordpress.so-haneu.de
DTSTART;TZID=Europe/Berlin:20260128T140000
DTEND;TZID=Europe/Berlin:20270122T160000
DTSTAMP:20260202T145830Z
URL:https://wordpress-staging-wordpress.so-haneu.de/events/kunstkurs/
SUMMARY:kunstkurs
DESCRIPTION:test veranstaltung kunstkurs
ATTACH;FMTTYPE=image/jpeg:https://wordpress-staging-wordpress.so-haneu.de/
 wp-content/uploads/2025/04/Logo-HeimART.png
CATEGORIES:34,46,Angebot für Kinder &amp; Jugendliche,Fortlaufender
 Kurs,Frauenprogramm,Wochenprogramm
LOCATION:Adolph-Menzel-Strasse Haus\, Adolph-Menzel-Strasse 1\, Halle\, Deu
 tschland
X-APPLE-STRUCTURED-LOCATION;VALUE=URI;X-ADDRESS=Adolph-Menzel-Strasse 1\, H
 alle\, Deutschland;X-APPLE-RADIUS=100;X-TITLE=Adolph-Menzel-Strasse Haus:g
 eo:0,0
END:VEVENT
BEGIN:VTIMEZONE
TZID:Europe/Berlin
X-LIC-LOCATION:Europe/Berlin
BEGIN:STANDARD
DTSTART:20251026T020000
TZOFFSETFROM:+0200
TZOFFSETTO:+0100
TZNAME:CET
END:STANDARD
BEGIN:DAYLIGHT
DTSTART:20260329T030000
TZOFFSETFROM:+0100
TZOFFSETTO:+0200
TZNAME:CEST
END:DAYLIGHT
BEGIN:STANDARD
DTSTART:20261025T020000
TZOFFSETFROM:+0200
TZOFFSETTO:+0100
TZNAME:CET
END:STANDARD
END:VTIMEZONE
END:VCALENDAR