BEGIN:VCALENDAR
VERSION:2.0
PRODID:-//wp-events-plugin.com//7.2.3.1//EN
TZID:Europe/Berlin
X-WR-TIMEZONE:Europe/Berlin
BEGIN:VEVENT
UID:1@wordpress-staging-wordpress.so-haneu.de
DTSTART;TZID=Europe/Berlin:20260122T000000
DTEND;TZID=Europe/Berlin:20280201T000000
DTSTAMP:20260223T154328Z
URL:https://wordpress-staging-wordpress.so-haneu.de/events/test-veranstalt
 ung-schema/
SUMMARY:test veranstaltung schema
DESCRIPTION:wir testen was in schema kommt
ATTACH;FMTTYPE=image/jpeg:https://wordpress-staging-wordpress.so-haneu.de/
 wp-content/uploads/2025/04/IMG_6885-scaled.jpg
CATEGORIES:28,36,Jugendhochschule,Jugendhochschule_Auswahl,Smart City
 Halle Saale
LOCATION:P13 Eventraum (EG)\, \, 
X-APPLE-STRUCTURED-LOCATION;VALUE=URI;X-ADDRESS=\, ;X-APPLE-RADIUS=100;X-TI
 TLE=P13 Eventraum (EG):geo:0,0
END:VEVENT
BEGIN:VTIMEZONE
TZID:Europe/Berlin
X-LIC-LOCATION:Europe/Berlin
BEGIN:STANDARD
DTSTART:20251026T020000
TZOFFSETFROM:+0200
TZOFFSETTO:+0100
TZNAME:CET
END:STANDARD
BEGIN:DAYLIGHT
DTSTART:20260329T030000
TZOFFSETFROM:+0100
TZOFFSETTO:+0200
TZNAME:CEST
END:DAYLIGHT
BEGIN:STANDARD
DTSTART:20261025T020000
TZOFFSETFROM:+0200
TZOFFSETTO:+0100
TZNAME:CET
END:STANDARD
BEGIN:DAYLIGHT
DTSTART:20270328T030000
TZOFFSETFROM:+0100
TZOFFSETTO:+0200
TZNAME:CEST
END:DAYLIGHT
BEGIN:STANDARD
DTSTART:20271031T020000
TZOFFSETFROM:+0200
TZOFFSETTO:+0100
TZNAME:CET
END:STANDARD
END:VTIMEZONE
END:VCALENDAR